BEGIN:VCALENDAR
VERSION:2.0
PRODID:-//Edmonton Community Adult Learning Association (ECALA) - ECPv6.15.20//NONSGML v1.0//EN
CALSCALE:GREGORIAN
METHOD:PUBLISH
X-ORIGINAL-URL:https://www.ecala.org
X-WR-CALDESC:Events for Edmonton Community Adult Learning Association (ECALA)
REFRESH-INTERVAL;VALUE=DURATION:PT1H
X-Robots-Tag:noindex
X-PUBLISHED-TTL:PT1H
BEGIN:VTIMEZONE
TZID:America/Edmonton
BEGIN:DAYLIGHT
TZOFFSETFROM:-0700
TZOFFSETTO:-0600
TZNAME:MDT
DTSTART:20200308T090000
END:DAYLIGHT
BEGIN:STANDARD
TZOFFSETFROM:-0600
TZOFFSETTO:-0700
TZNAME:MST
DTSTART:20201101T080000
END:STANDARD
BEGIN:DAYLIGHT
TZOFFSETFROM:-0700
TZOFFSETTO:-0600
TZNAME:MDT
DTSTART:20210314T090000
END:DAYLIGHT
BEGIN:STANDARD
TZOFFSETFROM:-0600
TZOFFSETTO:-0700
TZNAME:MST
DTSTART:20211107T080000
END:STANDARD
BEGIN:DAYLIGHT
TZOFFSETFROM:-0700
TZOFFSETTO:-0600
TZNAME:MDT
DTSTART:20220313T090000
END:DAYLIGHT
BEGIN:STANDARD
TZOFFSETFROM:-0600
TZOFFSETTO:-0700
TZNAME:MST
DTSTART:20221106T080000
END:STANDARD
BEGIN:DAYLIGHT
TZOFFSETFROM:-0700
TZOFFSETTO:-0600
TZNAME:MDT
DTSTART:20230312T090000
END:DAYLIGHT
BEGIN:STANDARD
TZOFFSETFROM:-0600
TZOFFSETTO:-0700
TZNAME:MST
DTSTART:20231105T080000
END:STANDARD
BEGIN:DAYLIGHT
TZOFFSETFROM:-0700
TZOFFSETTO:-0600
TZNAME:MDT
DTSTART:20240310T090000
END:DAYLIGHT
BEGIN:STANDARD
TZOFFSETFROM:-0600
TZOFFSETTO:-0700
TZNAME:MST
DTSTART:20241103T080000
END:STANDARD
BEGIN:DAYLIGHT
TZOFFSETFROM:-0700
TZOFFSETTO:-0600
TZNAME:MDT
DTSTART:20250309T090000
END:DAYLIGHT
BEGIN:STANDARD
TZOFFSETFROM:-0600
TZOFFSETTO:-0700
TZNAME:MST
DTSTART:20251102T080000
END:STANDARD
BEGIN:DAYLIGHT
TZOFFSETFROM:-0700
TZOFFSETTO:-0600
TZNAME:MDT
DTSTART:20260308T090000
END:DAYLIGHT
BEGIN:STANDARD
TZOFFSETFROM:-0600
TZOFFSETTO:-0700
TZNAME:MST
DTSTART:20261101T080000
END:STANDARD
BEGIN:DAYLIGHT
TZOFFSETFROM:-0700
TZOFFSETTO:-0600
TZNAME:MDT
DTSTART:20270314T090000
END:DAYLIGHT
BEGIN:STANDARD
TZOFFSETFROM:-0600
TZOFFSETTO:-0700
TZNAME:MST
DTSTART:20271107T080000
END:STANDARD
END:VTIMEZONE
BEGIN:VEVENT
DTSTART;VALUE=DATE:20210913
DTEND;VALUE=DATE:20260701
DTSTAMP:20260423T155702
CREATED:20191106T223658Z
LAST-MODIFIED:20251020T220323Z
UID:2045-1631491200-1782863999@www.ecala.org
SUMMARY:ASL Read With Me
DESCRIPTION:This course is for deaf and hearing parents learning how to teach their child early literacy skills. Parents will learn the basics using ASL reading and other strategies to improve their own skills as well as their child’s. A deaf facilitator and a speech language pathologist will lead this class.
URL:https://www.ecala.org/program/parent-child-learn-and-play/
CATEGORIES:Community Capacity Building,Family Literacy,South West Edmonton
END:VEVENT
BEGIN:VEVENT
DTSTART;VALUE=DATE:20210913
DTEND;VALUE=DATE:20260701
DTSTAMP:20260423T155702
CREATED:20191106T223848Z
LAST-MODIFIED:20251020T193756Z
UID:2047-1631491200-1782863999@www.ecala.org
SUMMARY:ASL Family Learning Program
DESCRIPTION:Are you a deaf immigrant learning ASL and English? \nDo your family members want to learn ASL too? \nConnect Society provides family friendly ASL classes that are for family members of deaf immigrants. \n 
URL:https://www.ecala.org/program/literacy-enrichment/
CATEGORIES:Community Capacity Building,Family Literacy,South West Edmonton
END:VEVENT
BEGIN:VEVENT
DTSTART;VALUE=DATE:20220906
DTEND;VALUE=DATE:20230701
DTSTAMP:20260423T155702
CREATED:20220729T194753Z
LAST-MODIFIED:20221007T182814Z
UID:6424-1662422400-1688169599@www.ecala.org
SUMMARY:English for Community Integration Parkdale-Cromdale (All Levels)
DESCRIPTION:Would you like to improve your ability to read\, write and speak English? At MFRS\, we have a free English language learning course that might interest you. Our classes are small\, and our teachers are friendly. You will have the chance to meet other people\, make friends\, visit Edmonton attractions and learn together. You can bring your children to the course too – at no cost. We will use city buses\, learn about the health care system\, schools\, how to find a job and other topics that interest you.
URL:https://www.ecala.org/program/english-for-community-integration-parkdale-cromdale/
CATEGORIES:English Language Learning,South East Edmonton
ORGANIZER;CN="Multicultural Family Resource Society":MAILTO:info@mfrsedmonton.org
END:VEVENT
BEGIN:VEVENT
DTSTART;VALUE=DATE:20220906
DTEND;VALUE=DATE:20240701
DTSTAMP:20260423T155702
CREATED:20221007T183218Z
LAST-MODIFIED:20230719T155736Z
UID:6553-1662422400-1719791999@www.ecala.org
SUMMARY:English for Community Integration - Intermediate - Family Support Office
DESCRIPTION:Take your English language skills to the next level! MFRS is holding free classes for newcomers who have completed basic English and now want to keep improving. We’ll help you become even more confident reading\, writing and speaking English. All in a relaxed friendly environment where you can make new friends. Bring your children too. We will use city buses and learn to get around Edmonton. You will also learn more about the healthcare system\, how schools work and how to find a job.
URL:https://www.ecala.org/program/english-for-community-integration-intermediate-family-support-office-2/
CATEGORIES:English Language Learning,South East Edmonton
ORGANIZER;CN="Multicultural Family Resource Society":MAILTO:info@mfrsedmonton.org
END:VEVENT
BEGIN:VEVENT
DTSTART;VALUE=DATE:20220909
DTEND;VALUE=DATE:20230630
DTSTAMP:20260423T155702
CREATED:20220729T195622Z
LAST-MODIFIED:20221007T183831Z
UID:6433-1662681600-1688083199@www.ecala.org
SUMMARY:Empowered Parenting
DESCRIPTION:Come learn about the health\, safety\, behavior and development of your child.  Watch videos\, have conversations\, and do activities that grow positive relationships and support positive parenting.  Get ideas to feel confident as a parent and to help you connect with your child.  Get to know other parents.  Talk about ways to help your child grow healthy and strong.  Feel supported in your parenting journey and learn new parenting skills.
URL:https://www.ecala.org/program/empowered-parenting/
CATEGORIES:Central Edmonton,Community Capacity Building,Family Literacy
END:VEVENT
BEGIN:VEVENT
DTSTART;VALUE=DATE:20220913
DTEND;VALUE=DATE:20260701
DTSTAMP:20260423T155702
CREATED:20210713T150509Z
LAST-MODIFIED:20251020T221425Z
UID:4557-1663027200-1782863999@www.ecala.org
SUMMARY:Family Book Club
DESCRIPTION:The Family Book Club program offers fun\, hands-on literacy\, language\, and number activities for you and your children ages 4 – 6 years.  We meet once a week for 10 weeks in a row.  You will learn to help your child love reading and writing\, develop a positive relationship with your child\, and learn new ways to read with your children.  We will read and talk about books.  You will build your own reading\, understanding\, vocabulary\, writing and number skills through activities that help you share books with your children.
URL:https://www.ecala.org/program/family-book-club/
CATEGORIES:Adult Literacy,Family Literacy,Featured,North West Edmonton
ORGANIZER;CN="Centre for Family Literacy":MAILTO:info@famlit.ca
END:VEVENT
END:VCALENDAR