BEGIN:VCALENDAR
VERSION:2.0
PRODID:-//Edmonton Community Adult Learning Association (ECALA) - ECPv6.15.20//NONSGML v1.0//EN
CALSCALE:GREGORIAN
METHOD:PUBLISH
X-ORIGINAL-URL:https://www.ecala.org
X-WR-CALDESC:Events for Edmonton Community Adult Learning Association (ECALA)
REFRESH-INTERVAL;VALUE=DURATION:PT1H
X-Robots-Tag:noindex
X-PUBLISHED-TTL:PT1H
BEGIN:VTIMEZONE
TZID:America/Edmonton
BEGIN:DAYLIGHT
TZOFFSETFROM:-0700
TZOFFSETTO:-0600
TZNAME:MDT
DTSTART:20230312T090000
END:DAYLIGHT
BEGIN:STANDARD
TZOFFSETFROM:-0600
TZOFFSETTO:-0700
TZNAME:MST
DTSTART:20231105T080000
END:STANDARD
BEGIN:DAYLIGHT
TZOFFSETFROM:-0700
TZOFFSETTO:-0600
TZNAME:MDT
DTSTART:20240310T090000
END:DAYLIGHT
BEGIN:STANDARD
TZOFFSETFROM:-0600
TZOFFSETTO:-0700
TZNAME:MST
DTSTART:20241103T080000
END:STANDARD
BEGIN:DAYLIGHT
TZOFFSETFROM:-0700
TZOFFSETTO:-0600
TZNAME:MDT
DTSTART:20250309T090000
END:DAYLIGHT
BEGIN:STANDARD
TZOFFSETFROM:-0600
TZOFFSETTO:-0700
TZNAME:MST
DTSTART:20251102T080000
END:STANDARD
END:VTIMEZONE
BEGIN:VEVENT
DTSTART;TZID=America/Edmonton:20241204T120000
DTEND;TZID=America/Edmonton:20241204T130000
DTSTAMP:20260424T062953
CREATED:20241113T212913Z
LAST-MODIFIED:20241120T200621Z
UID:8494-1733313600-1733317200@www.ecala.org
SUMMARY:Leveraging Technology: Canva and AI for Clear Communication in Literacy & Settlement Services
DESCRIPTION:Leveraging Technology: Canva and AI for Clear Communication in Literacy & Settlement Services\nDate: Wednesday\, December 4\, 2024\nTime: 12:00 pm to 1:00 pm\nWhere: Virtual\, Zoom\nRegistration: Click here \nIn this session\, participants will explore practical strategies to enhance communication through Canva. We will look at Canva’s feature for non-profits\, and the expansive AI features in the program. By the end of the session\, attendees will have actionable insights to support clear\, inclusive communication through Canva.
URL:https://www.ecala.org/program/leveraging-tech-dec2024/
CATEGORIES:Public Events
END:VEVENT
BEGIN:VEVENT
DTSTART;TZID=America/Edmonton:20241211T120000
DTEND;TZID=America/Edmonton:20241211T130000
DTSTAMP:20260424T062953
CREATED:20241113T225124Z
LAST-MODIFIED:20241113T225124Z
UID:8497-1733918400-1733922000@www.ecala.org
SUMMARY:Teaching Smarter: AI and Digital Resources for Language Educators
DESCRIPTION:Teaching Smarter: AI and Digital Resources for Language Educators\nDate: Wednesday\, December 11\, 2024\nTime: 12:00 pm to 1:00 pm\nWhere: Virtual\, Zoom\nRegistration: Click here \nIn this session designed specifically for language instructors\, we will explore a range of AI-powered and digital tools to enhance classroom teaching. Participants will discover how to integrate Generative Chats (ChatGPT\, Google Gemini\, Microsoft Co-pilot) into language instruction\, use Canva to create engaging educational materials and apply tools for linguistic inclusivity to support diverse learners. By the end of the session\, educators will have practical insights into incorporating these tools to elevate language learning experiences.
URL:https://www.ecala.org/program/teaching-smarter-dec2024/
CATEGORIES:Public Events
END:VEVENT
BEGIN:VEVENT
DTSTART;TZID=America/Edmonton:20241212T120000
DTEND;TZID=America/Edmonton:20241212T130000
DTSTAMP:20260424T062953
CREATED:20241120T172311Z
LAST-MODIFIED:20241120T172311Z
UID:8503-1734004800-1734008400@www.ecala.org
SUMMARY:Exploring e-Learnings with the CLN
DESCRIPTION:Exploring e-Learnings with the CLN\nDate: Thursday\, December 12\, 2024\nTime: 12:00 pm to 1:00 pm\nWhere: Virtual\, Zoom\nRegistration: Click here \nMicrolearnings can provide BIG impact to your role in a CALP-funded organization. Microlearnings are: \n\nSelf-paced learning opportunities\nAccessible anytime\, anywhere (you have wifi)\nOrganized into bite-sized pieces\nDesigned for real-world application\n\nJoin CLN to explore our vast collection of e-Learnings over the lunch hour. Each of these microlearnings has been designed to support the Community Adult Learning Program and are filled with tools\, tips and resources. \nYou will discover that you can pick and choose topics from the e-Learnings that are relevant to your work and customize your own professional development. Choose from topics such as instruction\, Indigenous learning\, volunteers\, assessment\, evaluation and more. \nPlease note\, that a CALP portal account is required to access the full collection of e-Learnings. To request a CALP Portal profile\, please complete the online form at https://calp.ca/user/request.
URL:https://www.ecala.org/program/exploring-elearnings-with-the-cln-dec2024/
CATEGORIES:Public Events
END:VEVENT
END:VCALENDAR