BEGIN:VCALENDAR
VERSION:2.0
PRODID:-//Edmonton Community Adult Learning Association (ECALA) - ECPv6.15.20//NONSGML v1.0//EN
CALSCALE:GREGORIAN
METHOD:PUBLISH
X-WR-CALNAME:Edmonton Community Adult Learning Association (ECALA)
X-ORIGINAL-URL:https://www.ecala.org
X-WR-CALDESC:Events for Edmonton Community Adult Learning Association (ECALA)
REFRESH-INTERVAL;VALUE=DURATION:PT1H
X-Robots-Tag:noindex
X-PUBLISHED-TTL:PT1H
BEGIN:VTIMEZONE
TZID:America/Edmonton
BEGIN:DAYLIGHT
TZOFFSETFROM:-0700
TZOFFSETTO:-0600
TZNAME:MDT
DTSTART:20230312T090000
END:DAYLIGHT
BEGIN:STANDARD
TZOFFSETFROM:-0600
TZOFFSETTO:-0700
TZNAME:MST
DTSTART:20231105T080000
END:STANDARD
BEGIN:DAYLIGHT
TZOFFSETFROM:-0700
TZOFFSETTO:-0600
TZNAME:MDT
DTSTART:20240310T090000
END:DAYLIGHT
BEGIN:STANDARD
TZOFFSETFROM:-0600
TZOFFSETTO:-0700
TZNAME:MST
DTSTART:20241103T080000
END:STANDARD
BEGIN:DAYLIGHT
TZOFFSETFROM:-0700
TZOFFSETTO:-0600
TZNAME:MDT
DTSTART:20250309T090000
END:DAYLIGHT
BEGIN:STANDARD
TZOFFSETFROM:-0600
TZOFFSETTO:-0700
TZNAME:MST
DTSTART:20251102T080000
END:STANDARD
END:VTIMEZONE
BEGIN:VEVENT
DTSTART;TZID=America/Edmonton:20241017T130000
DTEND;TZID=America/Edmonton:20241017T150000
DTSTAMP:20260424T093223
CREATED:20240911T175534Z
LAST-MODIFIED:20240911T175534Z
UID:8405-1729170000-1729177200@www.ecala.org
SUMMARY:New Agencies ECALA Grant Application Information Session
DESCRIPTION:New Agencies ECALA Grant Application Information Session\nDate: Thursday\, October 17\, 2024\nTime: 1:00 pm to 3:00 pm\nWhere: Virtual\, Zoom\nRegistration: Click here \nThis session is for agencies applying to ECALA for the first time or for agencies who did not receive funding from ECALA during the 2022-2025 funding cycle.  We will review the 2025-2027 application forms and answer general questions regarding the application or the application process. Please download a copy of the 2024 CALP Policy Manual to see if your proposed course/program fits within the funding mandate. \nLink to the 2024 CALP Policy Manual: https://open.alberta.ca/dataset/8e5803a0-8d3b-49d5-a027-31373ccc144e/resource/f2a23451-6dfe-44ed-9c75-fea0913858ba/download/ae-community-adult-learning-program-policy-manual-2024.pdf
URL:https://www.ecala.org/program/new-agencies-ecala-info-session-oct2024/
CATEGORIES:Public Events
END:VEVENT
BEGIN:VEVENT
DTSTART;TZID=America/Edmonton:20241030T130000
DTEND;TZID=America/Edmonton:20241030T150000
DTSTAMP:20260424T093223
CREATED:20240911T175915Z
LAST-MODIFIED:20240911T175934Z
UID:8409-1730293200-1730300400@www.ecala.org
SUMMARY:Returning Agencies ECALA Grant Application Information Session
DESCRIPTION:Returning Agencies ECALA Grant Application Information Session\nDate: Wednesday\, October 30\, 2024\nTime: 1:00 pm to 3:00 pm\nWhere: Virtual\, Zoom\nRegistration: Click here \nThis session is for agencies who received funding from ECALA during the 2022-2025 funding cycle. We will review the 2024-2027 application forms and answer general questions regarding the application or the application process. \nLink to the 2024 CALP Policy Manual: https://open.alberta.ca/dataset/8e5803a0-8d3b-49d5-a027-31373ccc144e/resource/f2a23451-6dfe-44ed-9c75-fea0913858ba/download/ae-community-adult-learning-program-policy-manual-2024.pdf
URL:https://www.ecala.org/program/returning-agencies-ecala-grant-application-information-session-oct2024/
CATEGORIES:Public Events
END:VEVENT
END:VCALENDAR